BEGIN:VCALENDAR
VERSION:2.0
PRODID:gruene-sennfeld.de
METHOD:PUBLISH
BEGIN:VTIMEZONE
TZID:Europe/Berlin
X-LIC-LOCATION:Europe/Berlin
BEGIN:DAYLIGHT
TZOFFSETFROM:+0100
TZOFFSETTO:+0200
TZNAME:CEST
DTSTART:19700329T020000
RRULE:FREQ=YEARLY;INTERVAL=1;BYDAY=-1SU;BYMONTH=3
END:DAYLIGHT
BEGIN:STANDARD
TZOFFSETFROM:+0200
TZOFFSETTO:+0100
TZNAME:CET
DTSTART:19701025T030000
RRULE:FREQ=YEARLY;INTERVAL=1;BYDAY=-1SU;BYMONTH=10
END:STANDARD
END:VTIMEZONE
BEGIN:VEVENT
UID:99fd2ca5e51176630a9a1c04733a1b5b@gruene-sennfeld.de
URL;VALUE=URI:https://gruene-sennfeld.de/termine/das-heupferdchen-abzeich
 en-2/
LOCATION:Gochsheim - Waldklassenzimmer, Grettstadter Weg 6, 97469 Weyer
SUMMARY:Das Heupferdchen-Abzeichen
DESCRIPTION;ALTREP="data:text/html,%0A%3Cfigure%20class%3D%22wp-block-ima
 ge%20size-large%20is-resized%22%3E%3Cimg%20src%3D%22https%3A%2F%2Fgruene-
 sennfeld.de%2Fwp-content%2Fuploads%2Fsites%2F30%2F2026%2F03%2FWhatsApp-Im
 age-2026-03-02-at-17.25.26-1-724x1024.jpeg%22%20alt%3D%22%22%20class%3D%2
 2wp-image-2426%22%20style%3D%22aspect-ratio%3A0.707038762340271%3Bwidth%3
 A486px%3Bheight%3Aauto%22%20%2F%3E%3C%2Ffigure%3E%0A%0A%0A%0A%3Cfigure%20
 class%3D%22wp-block-image%20size-large%20is-resized%22%3E%3Cimg%20src%3D%
 22https%3A%2F%2Fgruene-sennfeld.de%2Fwp-content%2Fuploads%2Fsites%2F30%2F
 2026%2F03%2FWhatsApp-Image-2026-03-02-at-17.25.26-1-1-724x1024.jpeg%22%20
 alt%3D%22%22%20class%3D%22wp-image-2427%22%20style%3D%22aspect-ratio%3A0.
 7070354680621314%3Bwidth%3A486px%3Bheight%3Aauto%22%20%2F%3E%3C%2Ffigure%
 3E%0A":
CLASS:PUBLIC
DTSTART;TZID=Europe/Berlin:20260425T100000
DTEND;TZID=Europe/Berlin:20260425T143000
DTSTAMP:20260424T105222
END:VEVENT
END:VCALENDAR